BEGIN:VCALENDAR
VERSION:2.0
PRODID:-//Children in Crossfire - ECPv6.15.20//NONSGML v1.0//EN
CALSCALE:GREGORIAN
METHOD:PUBLISH
X-WR-CALNAME:Children in Crossfire
X-ORIGINAL-URL:https://www.childrenincrossfire.org
X-WR-CALDESC:Events for Children in Crossfire
REFRESH-INTERVAL;VALUE=DURATION:PT1H
X-Robots-Tag:noindex
X-PUBLISHED-TTL:PT1H
BEGIN:VTIMEZONE
TZID:UTC
BEGIN:STANDARD
TZOFFSETFROM:+0000
TZOFFSETTO:+0000
TZNAME:UTC
DTSTART:20190101T000000
END:STANDARD
END:VTIMEZONE
BEGIN:VEVENT
DTSTART;TZID=UTC:20201126T133000
DTEND;TZID=UTC:20201126T153000
DTSTAMP:20260421T135453
CREATED:20201104T082920Z
LAST-MODIFIED:20201104T083917Z
UID:15533-1606397400-1606404600@www.childrenincrossfire.org
SUMMARY:Bringing the Compassion Compass to Life
DESCRIPTION:Sign up for ‘Bringing the Compassion Compass to Life’ here. \n*Please note this event will take place on zoom. \n  \n 
URL:https://www.childrenincrossfire.org/event/bringing-the-compassion-compass-to-life/
ATTACH;FMTTYPE=image/png:https://www.childrenincrossfire.org/wp-content/uploads/2020/11/imageedit_2_8881248709.png
ORGANIZER;CN="Donna McFeely":MAILTO:donna.mcfeely@childrenincrossfire.org
END:VEVENT
BEGIN:VEVENT
DTSTART;TZID=UTC:20201125T133000
DTEND;TZID=UTC:20201125T153000
DTSTAMP:20260421T135453
CREATED:20201104T082303Z
LAST-MODIFIED:20201104T082303Z
UID:15531-1606311000-1606318200@www.childrenincrossfire.org
SUMMARY:Introduction to Compassionate Global Citizenship
DESCRIPTION:Register for ‘Introduction to Compassional Global Citizenship’ here! \n*Please note\, this event will take place on zoom.
URL:https://www.childrenincrossfire.org/event/introduction-to-compassionate-global-citizenship/
ATTACH;FMTTYPE=image/jpeg:https://www.childrenincrossfire.org/wp-content/uploads/2019/07/2.jpg
END:VEVENT
END:VCALENDAR